BEGIN:VCALENDAR
VERSION:2.0
PRODID:-//CSP Int&#039;l Certified Staging Courses - ECPv6.0.11//NONSGML v1.0//EN
CALSCALE:GREGORIAN
METHOD:PUBLISH
X-ORIGINAL-URL:https://www.stagingtraining.com
X-WR-CALDESC:Events for CSP Int&#039;l Certified Staging Courses
REFRESH-INTERVAL;VALUE=DURATION:PT1H
X-Robots-Tag:noindex
X-PUBLISHED-TTL:PT1H
BEGIN:VTIMEZONE
TZID:America/Toronto
BEGIN:DAYLIGHT
TZOFFSETFROM:-0500
TZOFFSETTO:-0400
TZNAME:EDT
DTSTART:20230312T070000
END:DAYLIGHT
BEGIN:STANDARD
TZOFFSETFROM:-0400
TZOFFSETTO:-0500
TZNAME:EST
DTSTART:20231105T060000
END:STANDARD
END:VTIMEZONE
BEGIN:VEVENT
DTSTART;TZID=America/Toronto:20230405T190000
DTEND;TZID=America/Toronto:20230405T200000
DTSTAMP:20260424T180533
CREATED:20230329T015512Z
LAST-MODIFIED:20230331T152732Z
UID:10000058-1680721200-1680724800@www.stagingtraining.com
SUMMARY:Top 3 Color Mistakes People Make (But Don't Have To)
DESCRIPTION:[vc_row title=”Course Details & Pricing” style=”custom” gradient_color_1=”turquoise” gradient_color_2=”blue” gradient_custom_color_1=”#dd3333″ gradient_custom_color_2=”#eeee22″ gradient_text_color=”#ffffff” custom_background=”#daac56″ custom_text=”#ffffff” outline_custom_color=”#666666″ outline_custom_hover_background=”#666666″ outline_custom_hover_text=”#ffffff” shape=”round” color=”grey” size=”lg” align=”center” button_block=”” add_icon=”” i_align=”left” i_type=”fontawesome” i_icon_fontawesome=”fas fa-adjust” i_icon_openiconic=”vc-oi vc-oi-dial” i_icon_typicons=”typcn typcn-adjust-brightness” i_icon_entypo=”entypo-icon entypo-icon-note” i_icon_linecons=”vc_li vc_li-heart” i_icon_monosocial=”vc-mono vc-mono-fivehundredpx” i_icon_material=”vc-material vc-material-cake” i_icon_pixelicons=”vc_pixel_icon vc_pixel_icon-alert” custom_onclick=”” link=”url:https%3A%2F%2Fwww.stagerstraining.com%2Fcsp%2F|title:Info%20%26%20Pricing|target:_blank” custom_onclick_code=””][vc_column][vc_column_text]\nAre You Losing Staging or Design Business Due to Poor Color Choices? \nYou have staged and redesigned dozens of homes. You’ve recommended color for your clients until you are blue in the face and you have been putting in long days. Properties are longer on the market than you or your agents would like. \nCould it be the color? \nFind out by joining Color Specialist\, Lynelle Hartman for this hour long webinar session\, as she shares the Top Three Color Mistakes Stagers Make resulting in lost business.[/vc_column_text][vc_btn title=”REGISTER NOW” style=”custom” custom_background=”#daac56″ custom_text=”#ffffff” shape=”round” size=”lg” align=”center” link=”url:https%3A%2F%2Fattendee.gotowebinar.com%2Fregister%2F5432490567070792716|title:Info%20%26%20Pricing|target:_blank”][/vc_column][/vc_row][vc_row title=”Course Details & Pricing” style=”custom” gradient_color_1=”turquoise” gradient_color_2=”blue” gradient_custom_color_1=”#dd3333″ gradient_custom_color_2=”#eeee22″ gradient_text_color=”#ffffff” custom_background=”#daac56″ custom_text=”#ffffff” outline_custom_color=”#666666″ outline_custom_hover_background=”#666666″ outline_custom_hover_text=”#ffffff” shape=”round” color=”grey” size=”lg” align=”center” button_block=”” add_icon=”” i_align=”left” i_type=”fontawesome” i_icon_fontawesome=”fas fa-adjust” i_icon_openiconic=”vc-oi vc-oi-dial” i_icon_typicons=”typcn typcn-adjust-brightness” i_icon_entypo=”entypo-icon entypo-icon-note” i_icon_linecons=”vc_li vc_li-heart” i_icon_monosocial=”vc-mono vc-mono-fivehundredpx” i_icon_material=”vc-material vc-material-cake” i_icon_pixelicons=”vc_pixel_icon vc_pixel_icon-alert” custom_onclick=”” link=”url:https%3A%2F%2Fwww.stagerstraining.com%2Fcsp%2F|title:Info%20%26%20Pricing|target:_blank” custom_onclick_code=””][vc_column width=”1/2″][vc_column_text]Participants will learn: \n\nOccupied Properties: The common mistakes stagers make when dealing with your clients’ own furniture(even if it’s “Ye ole 80’s mauve and blue sofa”)\nVacant Properties: How strategically placed color guides buyers through a space\, spend more time in the house and are more apt to make an offer  (Psssst…don’t miss a step or it will cost you!)\nRedesigns: How to find potential clients that want help with their color and will actually pay you well for it\nAnd much\, much more!!!\n\nEven if you think you are pretty good with color\, this webinar shares the nuts and bolts of creating color schemes buyers and redesign clients cannot resist (and did we mention…will pay you for it?) \nType of Course: WEBINAR/ONLINE COURSE\nDuration: 1 Hour \nFee: Complimentary \nDATES AND TIMES\nApril 5th\, 2023 | 7:00 PM EST[/vc_column_text][vc_btn title=”REGISTER NOW” style=”custom” custom_background=”#daac56″ custom_text=”#ffffff” shape=”round” size=”lg” align=”center” link=”url:https%3A%2F%2Fattendee.gotowebinar.com%2Fregister%2F5432490567070792716|title:Info%20%26%20Pricing|target:_blank”][/vc_column][vc_column width=”1/2″][vc_column_text][/vc_column_text][/vc_column][/vc_row][vc_row title=”Course Details & Pricing” style=”custom” gradient_color_1=”turquoise” gradient_color_2=”blue” gradient_custom_color_1=”#dd3333″ gradient_custom_color_2=”#eeee22″ gradient_text_color=”#ffffff” custom_background=”#daac56″ custom_text=”#ffffff” outline_custom_color=”#666666″ outline_custom_hover_background=”#666666″ outline_custom_hover_text=”#ffffff” shape=”round” color=”grey” size=”lg” align=”center” button_block=”” add_icon=”” i_align=”left” i_type=”fontawesome” i_icon_fontawesome=”fas fa-adjust” i_icon_openiconic=”vc-oi vc-oi-dial” i_icon_typicons=”typcn typcn-adjust-brightness” i_icon_entypo=”entypo-icon entypo-icon-note” i_icon_linecons=”vc_li vc_li-heart” i_icon_monosocial=”vc-mono vc-mono-fivehundredpx” i_icon_material=”vc-material vc-material-cake” i_icon_pixelicons=”vc_pixel_icon vc_pixel_icon-alert” custom_onclick=”” link=”url:https%3A%2F%2Fwww.stagerstraining.com%2Fcsp%2F|title:Info%20%26%20Pricing|target:_blank” custom_onclick_code=””][vc_column][vc_column_text]INSTRUCTOR: \nLynelle Hartman Bio:\nLynelle’s career in the world of “home” began in the 90’s working in real estate and corporate relocation.  During that time frame she was making selections\, choosing paint colors and readying corporate owned property for re-sale.  She started home staging c in 2001\, working with real estate professionals\, builders\, investors\, developers\, and homeowners.  Lynelle and her partner specialized in staging vacant property and together staged a broad spectrum of properties ranging from studio condos to high end properties featured on many Luxury Home Tours. \nLynelle has also work collaboratively with many builders and individual clients to make all design decisions: exterior roofing\, windows and siding\, stone work\, interior cabinetry\, flooring\, fixtures\, finishes\, paint selections and on to the final step – preparing for resale or creating a space to call home.  Through the years she has been an educator\, Instructor  and convention speaker for the CSP International Staging Business Training Academy through various programs\, webinar and events. \nHer work has been featured in The Minneapolis Star Tribune\, Midwest Living HOME Magazine\, Staging Standard Magazine\, staged sets for four episodes on HGTV\, “Staging for Dummies” and other publications.  She also hosts events and educational offerings in the home art ranging from gardening\, sewing\, painting and all things home. \nWith students\, Lynelle appreciates the “light bulb moment\,” that instant when they suddenly begin to put the pieces of their training together and the understanding of how it works – not only for themselves\, but for the benefit of their clients.  Her love of learning and hands on work gives her a wide range of experiences to share with students.   She now teaches the Color program for the CSP International Staging Academy. She said “It is a pleasure to be part of this process and each time I teach I learn something new from the students!  It is a privilege to work with and be a part of the CSP team.”[/vc_column_text][/vc_column][/vc_row]
URL:https://www.stagingtraining.com/event/top-3-color-mistakes-people-makebut-dont-have-to/
LOCATION:Virtual Classroom
CATEGORIES:Complimentary
ATTACH;FMTTYPE=image/png:https://www.stagingtraining.com/wp-content/uploads/2023/03/3-Color-Mistakes-Webinar-Set.png
END:VEVENT
BEGIN:VEVENT
DTSTART;TZID=America/Toronto:20230427T203000
DTEND;TZID=America/Toronto:20230427T213000
DTSTAMP:20260424T180533
CREATED:20230329T015731Z
LAST-MODIFIED:20230402T145534Z
UID:10000059-1682627400-1682631000@www.stagingtraining.com
SUMMARY:Curb Appeal Essentials for Selling
DESCRIPTION:[vc_row title=”Course Details & Pricing” style=”custom” gradient_color_1=”turquoise” gradient_color_2=”blue” gradient_custom_color_1=”#dd3333″ gradient_custom_color_2=”#eeee22″ gradient_text_color=”#ffffff” custom_background=”#daac56″ custom_text=”#ffffff” outline_custom_color=”#666666″ outline_custom_hover_background=”#666666″ outline_custom_hover_text=”#ffffff” shape=”round” color=”grey” size=”lg” align=”center” button_block=”” add_icon=”” i_align=”left” i_type=”fontawesome” i_icon_fontawesome=”fas fa-adjust” i_icon_openiconic=”vc-oi vc-oi-dial” i_icon_typicons=”typcn typcn-adjust-brightness” i_icon_entypo=”entypo-icon entypo-icon-note” i_icon_linecons=”vc_li vc_li-heart” i_icon_monosocial=”vc-mono vc-mono-fivehundredpx” i_icon_material=”vc-material vc-material-cake” i_icon_pixelicons=”vc_pixel_icon vc_pixel_icon-alert” custom_onclick=”” link=”url:https%3A%2F%2Fwww.stagerstraining.com%2Fcsp%2F|title:Info%20%26%20Pricing|target:_blank” custom_onclick_code=””][vc_column][vc_column_text]\n84% of real estate agents say they have buyers refuse to look at homes based on the outside appearance.\nComplimentary Presentation by Christine Rae\, Thursday\, April 27th at 8:30 – 9:30 pm EDT\n[/vc_column_text][vc_btn title=”REGISTER NOW” style=”custom” custom_background=”#daac56″ custom_text=”#ffffff” shape=”round” size=”lg” align=”center” link=”url:https%3A%2F%2Fattendee.gotowebinar.com%2Fregister%2F8021244517684196437|title:Info%20%26%20Pricing|target:_blank”][/vc_column][/vc_row][vc_row][vc_column width=”1/2″][vc_column_text][/vc_column_text][/vc_column][vc_column width=”1/2″][vc_column_text]Curb appeal is the most undervalued aspect of preparing a property for sale. Every listing photo is an image of the front of the house\, yet 84% of real estate agents say they have buyers refuse to look at homes based on their outside appearance. \nFirst impressions count\, and paying attention to the most significant leverage points generates interest and improves the property’s perceived value. Even in hot markets\, curb appeal starts the ball rolling and builds excitement for what’s inside. \nJoin Christine Rae for this free 1-hour complimentary training session as you discuss the importance of curb appeal and how to create lasting first impressions with Christine’s easy-to-implement tips and techniques.[/vc_column_text][/vc_column][/vc_row][vc_row][vc_column][vc_column_text]Participants will learn: \n\nWhat the real message of curb appeal is\nHow demographics impact curb appeal\nFive curb appeal essentials for selling\nTrends and what buyers want\nIdeas to turn even average homes into the envy of the neighbourhood\n\nHelp your seller’s property have more buyer appeal with these compelling curb appeal recommendations.[/vc_column_text][vc_btn title=”REGISTER NOW” style=”custom” custom_background=”#daac56″ custom_text=”#ffffff” shape=”round” size=”lg” align=”center” link=”url:https%3A%2F%2Fattendee.gotowebinar.com%2Fregister%2F8021244517684196437|title:Info%20%26%20Pricing|target:_blank”][/vc_column][/vc_row][vc_row][vc_column][vc_column_text]\nInstructor:\nChristine Rae\, MCSP\nAn industry pioneer\, bestselling author\, multiple award-winning entrepreneur\, Christine’s influenced the staging and real estate industries from the beginning of her career.  After a successful staging business she developed an innovative staging business training and certification program and the first real estate agent’s program\, her influence has affected the development of many but she is most proud of the thousands of graduates’ success In a non-regulated industry where “anything goes”\, she established value for high standards\, unquestionable ethics\, professionalism\, profit-focused systems\, actionable training and continuing education. \nCSP International™ recognized as the world’s leading authority on staging\, provides a stimulating\, safe-haven for support\, best practices\, and leading market trends. With a commitment to innovation and marketability\, CSP consistently releases content-rich trainings as well as specific marketable designations to enhance the industry and its practitioners. CSP trains stagers how to skillfully manage\, and grow lucrative businesses. Its core values\, mission\, and its apprenticeship program set CSP apart. Her unique\, signature CSP Real Estate Staging Business Program has received awards\, and accreditation from RESA. \nChristine was featured on ABC\, NBC\, CBS and FOX affiliates. Some awards include the 2020 RISMedia Trendsetter Creative Thinker\, RESA Lifetime Achievement Award\, RESA Innovator Award for continuing education\, 2019 RESA Top 75 Most Influential and Top 100 Elite Women who are shaping the real estate industry. \nRESA Innovator award also went to her as the Editor/Founder of the world’s only Staging Magazine. She is an Industry Expert Blogger\, regularly published in Real Estate Magazine\, as well a pioneer of EcoStaging®. A featured speaker and keynote for numerous real estate and staging events\, influencing Real Estate agents and sellers to change their minds about staging. \nIn 2001\, we said\, “staging will change the way real estate is sold” AND now it has![/vc_column_text][/vc_column][/vc_row]
URL:https://www.stagingtraining.com/event/curb-appeal-essentials-for-selling/
LOCATION:Virtual Classroom
CATEGORIES:Complimentary
ATTACH;FMTTYPE=image/jpeg:https://www.stagingtraining.com/wp-content/uploads/2022/05/home-page-curb-appeal.jpg
ORGANIZER;CN="Christine%20Rae":MAILTO:linda@StagingTraining.com
END:VEVENT
END:VCALENDAR