BEGIN:VCALENDAR
VERSION:2.0
PRODID:-//CSP Int&#039;l Certified Staging Courses - ECPv6.0.11//NONSGML v1.0//EN
CALSCALE:GREGORIAN
METHOD:PUBLISH
X-WR-CALNAME:CSP Int&#039;l Certified Staging Courses
X-ORIGINAL-URL:https://www.stagingtraining.com
X-WR-CALDESC:Events for CSP Int&#039;l Certified Staging Courses
REFRESH-INTERVAL;VALUE=DURATION:PT1H
X-Robots-Tag:noindex
X-PUBLISHED-TTL:PT1H
BEGIN:VTIMEZONE
TZID:America/Toronto
BEGIN:DAYLIGHT
TZOFFSETFROM:-0500
TZOFFSETTO:-0400
TZNAME:EDT
DTSTART:20230312T070000
END:DAYLIGHT
BEGIN:STANDARD
TZOFFSETFROM:-0400
TZOFFSETTO:-0500
TZNAME:EST
DTSTART:20231105T060000
END:STANDARD
END:VTIMEZONE
BEGIN:VEVENT
DTSTART;TZID=America/Toronto:20231110T150000
DTEND;TZID=America/Toronto:20231110T160000
DTSTAMP:20260422T053252
CREATED:20230930T161837Z
LAST-MODIFIED:20230930T162004Z
UID:10000128-1699628400-1699632000@www.stagingtraining.com
SUMMARY:Holistic Home Design: Aging-In-Place and Multi-Gen Living Solutions
DESCRIPTION:[vc_row][vc_column][vc_column_text]In today’s evolving real estate market\, the ability to cater to diverse housing needs is paramount. Two growing niche areas are helping people live in their homes longer(aging in place) and addressing the widening need for multi-generational living options. Whether you are a stager readying property for sale or a decorator looking to add services to your portfolio\, this intro session provides a unique opportunity to deepen your understanding of age-friendly designs and multi-gen living solutions. After this session\, CSP International Training Academy will be offering a series of dedicated workshops culminating in the \nCertified Aging In Place Certification (CAPS).\nAs the demand for homes to accommodate various age groups grows\, so does the need for professionals equipped with the knowledge to meet these demands. Currently\, there are a million households in Canada & about 28% of the US population with multiple generations living under one roof\, and it causes challenges. Learn more from the article From Rugs to Rails: Comprehensive Safety for Baby Boomers in the September 2023 issue of Staging Standard™ Magazine. \nBy acquiring the CAPS certification\, you enhance your expertise and position yourself as a forward-thinking professional attuned to the needs of an aging population and families seeking versatile living spaces. \nParticipants will learn: \n\nUnderstanding Multi-Generational Living\nThe Role of Staging in Multi-Generational Homes\nAge-Friendly Designs\nUniversal Design Features\nThe Power of Color Contrast\n\nTake advantage of this opportunity to elevate your career and make a meaningful impact in the lives of countless families. \nDATE: Friday\, November 10\, 2023 \nTIME: 3:00 PM – 4:00 PM EST \nFEE: Complimentary[/vc_column_text][vc_btn title=”REGISTER HERE!” link=”url:https%3A%2F%2Fattendee.gotowebinar.com%2Fregister%2F682860925994369115|target:_blank”][vc_video link=”https://youtu.be/e7FGLmnBiuQ” el_width=”50″ align=”center”][vc_column_text]PRESENTER BIO:  \nJanet Engel\nJanet is a licensed occupational therapist (OT) in the state of Georgia. Her career began with a Master’s in Occupational Therapy from Nova Southeastern University in 2008. In 2020\, Janet became a Certified Aging in Place Specialist(CAPS) through the National Association of Home Builders. She has the additional (ECHM) Executive Certificate in Home Modification Program through the University of California Leonard School of Gerontology. Janet is an approved instructor for the National Association of Home Builders (NAHB). She teaches the CAPS Certification Program and Universal Design Essentials.[/vc_column_text][/vc_column][/vc_row]
URL:https://www.stagingtraining.com/event/holistic-home-design-2/
LOCATION:Virtual Classroom
CATEGORIES:Complimentary
ATTACH;FMTTYPE=image/png:https://www.stagingtraining.com/wp-content/uploads/2023/09/facebook-post.png
END:VEVENT
BEGIN:VEVENT
DTSTART;TZID=America/Toronto:20231116T203000
DTEND;TZID=America/Toronto:20231116T213000
DTSTAMP:20260422T053252
CREATED:20231012T214124Z
LAST-MODIFIED:20231012T221129Z
UID:10000136-1700166600-1700170200@www.stagingtraining.com
SUMMARY:Essential Tips Every Stager Needs to Know
DESCRIPTION:[vc_row title=”Course Details & Pricing” style=”custom” gradient_color_1=”turquoise” gradient_color_2=”blue” gradient_custom_color_1=”#dd3333″ gradient_custom_color_2=”#eeee22″ gradient_text_color=”#ffffff” custom_background=”#daac56″ custom_text=”#ffffff” outline_custom_color=”#666666″ outline_custom_hover_background=”#666666″ outline_custom_hover_text=”#ffffff” shape=”round” color=”grey” size=”lg” align=”center” button_block=”” add_icon=”” i_align=”left” i_type=”fontawesome” i_icon_fontawesome=”fas fa-adjust” i_icon_openiconic=”vc-oi vc-oi-dial” i_icon_typicons=”typcn typcn-adjust-brightness” i_icon_entypo=”entypo-icon entypo-icon-note” i_icon_linecons=”vc_li vc_li-heart” i_icon_monosocial=”vc-mono vc-mono-fivehundredpx” i_icon_material=”vc-material vc-material-cake” i_icon_pixelicons=”vc_pixel_icon vc_pixel_icon-alert” custom_onclick=”” link=”url:https%3A%2F%2Fwww.stagerstraining.com%2Fcsp%2F|title:Info%20%26%20Pricing|target:_blank” custom_onclick_code=””][vc_column][vc_column_text]Real Estate staging can be an exciting and lucrative business when approached correctly. There are best practices that every stager\, especially new stagers\, should implement and follow to create a more sustainable\, profitable & successful business. \nBest practices are optimum ways of working your business to achieve your objectives\, learning from and through the experience of others and benefitting from the lessons they have already learned. Applying appropriate standards to your business helps you become more competitive\, increase your sales\, reduce your costs\, and improve the quality of service. You are also able to respond more quickly to opportunities in your marketplace. \nThe smallest to even the most prominent businesses can benefit from avoiding working with vampires\, better understanding the target audience\, and implementing work strategies & processes for maximum efficiency- while avoiding costly mistakes. For instance\, don’t say the words “Home Staging” to a client (the why not is in the workshop)\, flying by the seat of your pants and thinking this work is a “side hustle” when it is one of the most important and impactful services any property owner can utilize when selling. \nJoin me for this informative 60-minute workshop as I share essential staging tips to improve your business. \n  \nParticipants will learn: \n\nBest practices for business\, pricing\, sales & marketing\nImage is everything – how to improve yours\nWhy not say “Home Staging” to clients\nHidden pockets of business waiting for you\n\n[/vc_column_text][vc_btn title=”REGISTER NOW” style=”custom” custom_background=”#daac56″ custom_text=”#ffffff” shape=”round” size=”lg” align=”center” link=”url:https%3A%2F%2Fattendee.gotowebinar.com%2Fregister%2F3278596773270592349|title:Info%20%26%20Pricing|target:_blank”][/vc_column][/vc_row]
URL:https://www.stagingtraining.com/event/essential-tips-every-stager-needs-to-know/
LOCATION:Virtual Classroom
CATEGORIES:Complimentary
ATTACH;FMTTYPE=image/png:https://www.stagingtraining.com/wp-content/uploads/2023/08/Essential-Tips-Course-1920x1080-1.png
ORGANIZER;CN="Christine%20Rae":MAILTO:linda@StagingTraining.com
END:VEVENT
BEGIN:VEVENT
DTSTART;TZID=America/Toronto:20231122T190000
DTEND;TZID=America/Toronto:20231122T200000
DTSTAMP:20260422T053252
CREATED:20230907T162909Z
LAST-MODIFIED:20230907T162909Z
UID:10000124-1700679600-1700683200@www.stagingtraining.com
SUMMARY:Top 3 Reasons Property Renovations Fail and How to Avoid Them
DESCRIPTION:[vc_row title=”Course Details & Pricing” style=”custom” gradient_color_1=”turquoise” gradient_color_2=”blue” gradient_custom_color_1=”#dd3333″ gradient_custom_color_2=”#eeee22″ gradient_text_color=”#ffffff” custom_background=”#daac56″ custom_text=”#ffffff” outline_custom_color=”#666666″ outline_custom_hover_background=”#666666″ outline_custom_hover_text=”#ffffff” shape=”round” color=”grey” size=”lg” align=”center” button_block=”” add_icon=”” i_align=”left” i_type=”fontawesome” i_icon_fontawesome=”fas fa-adjust” i_icon_openiconic=”vc-oi vc-oi-dial” i_icon_typicons=”typcn typcn-adjust-brightness” i_icon_entypo=”entypo-icon entypo-icon-note” i_icon_linecons=”vc_li vc_li-heart” i_icon_monosocial=”vc-mono vc-mono-fivehundredpx” i_icon_material=”vc-material vc-material-cake” i_icon_pixelicons=”vc_pixel_icon vc_pixel_icon-alert” custom_onclick=”” link=”url:https%3A%2F%2Fwww.stagerstraining.com%2Fcsp%2F|title:Info%20%26%20Pricing|target:_blank” custom_onclick_code=””][vc_column][vc_column_text]Many stagers\, re-designers and decorators land themselves in hot water every day\, by helping their clients with renovations without fully understanding the risks\, they & their clients are exposed to. Almost half of all properties on the market today will be sold to millennials. Research shows what they want is move-in-ready property. \nAs a result\, many sellers are contacting stagers early in the property preparedness process\, for assistance to update kitchens and bathrooms\, lighting\, flooring and general hardscapes of property. Budget is often an issue\, so results are often compromised by choosing cheap finishes and products. \nReal estate investors and property owners are looking for experts with a solid dependable reputation\, meaningful credentials and experience with renovations to successfully and independently manage their projects. They want guidance in making decisions based upon facts and risk assessment. Are you shying away from this huge segment of business for fear of making a mistake? \nIf you said yes- this learning session is for you!  \nParticipants will learn:  \n\nCommon mistakes and how to avoid them\nHow to overcome objections to working with you\nLearn how to bolster your confidence for adding this segment of business to your service offerings\n\nJoin renovation management expert\, Deb Boucher for this 1 hour complimentary webinar as she discusses common issues encountered during renovations and how to make sure they don’t happen. There will be a Q&A session at the end to answer any questions that might come up during the presentation.[/vc_column_text][vc_btn title=”REGISTER NOW” style=”custom” custom_background=”#daac56″ custom_text=”#ffffff” shape=”round” size=”lg” align=”center” link=”url:https%3A%2F%2Fattendee.gotowebinar.com%2Fregister%2F5869094540651242587|title:Register|target:_blank”][/vc_column][/vc_row]
URL:https://www.stagingtraining.com/event/top-3-reasons-property-renovations-fail-and-how-to-avoid-them-3/
LOCATION:Virtual Classroom
CATEGORIES:Complimentary
ATTACH;FMTTYPE=image/png:https://www.stagingtraining.com/wp-content/uploads/2023/03/3-reasons-renos-fail-fb.png
ORGANIZER;CN="Debrah%20Boucher":MAILTO:linda@stagingtraining.com
END:VEVENT
END:VCALENDAR