BEGIN:VCALENDAR
VERSION:2.0
PRODID:-//CSP Int&#039;l Certified Staging Courses - ECPv6.0.11//NONSGML v1.0//EN
CALSCALE:GREGORIAN
METHOD:PUBLISH
X-ORIGINAL-URL:https://www.stagingtraining.com
X-WR-CALDESC:Events for CSP Int&#039;l Certified Staging Courses
REFRESH-INTERVAL;VALUE=DURATION:PT1H
X-Robots-Tag:noindex
X-PUBLISHED-TTL:PT1H
BEGIN:VTIMEZONE
TZID:America/Toronto
BEGIN:DAYLIGHT
TZOFFSETFROM:-0500
TZOFFSETTO:-0400
TZNAME:EDT
DTSTART:20230312T070000
END:DAYLIGHT
BEGIN:STANDARD
TZOFFSETFROM:-0400
TZOFFSETTO:-0500
TZNAME:EST
DTSTART:20231105T060000
END:STANDARD
END:VTIMEZONE
BEGIN:VEVENT
DTSTART;TZID=America/Toronto:20230525T203000
DTEND;TZID=America/Toronto:20230525T213000
DTSTAMP:20260424T180705
CREATED:20230331T163456Z
LAST-MODIFIED:20230331T163456Z
UID:10000081-1685046600-1685050200@www.stagingtraining.com
SUMMARY:Staging The Main Bedroom
DESCRIPTION:[vc_row][vc_column][vc_column_text]\nThursday\, May 25\, 2023 – 8:30 – 9:30 PM EDT\n42% of buyer agents said the main bedroom was one of the top 3 crucial rooms in a house.\nComplimentary Presentation by Christine Rae on Thursday\, May 25th\, 2023\nAs a society\, studies have shown we are generally sleep-deprived\, wearing busy schedules like badges of honor! With everyone more stressed than ever\, a peaceful retreat is vital for recharging the batteries at the end of the day. \n42% of buyer agents said the main bedroom was one of the top three crucial rooms in a house. \n• Do you struggle to get bedrooms\, right? \n• Are you unknowingly shortchanging results and your business reputation by not doing enough?[/vc_column_text][vc_btn title=”REGISTER TODAY!” style=”custom” custom_background=”#daac56″ custom_text=”#ffffff” shape=”round” size=”lg” align=”center” link=”url:https%3A%2F%2Fattendee.gotowebinar.com%2Fregister%2F2757895550457777239%20|title:REGISTER%20TODAY|target:_blank”][vc_column_text]Principal bedrooms are often very personal in occupied homes and feel empty and lifeless in vacant properties. Creating an oasis of calm and quiet where the future buyer can close off the day’s worries takes a little more effort\, but it is worth it. \nJoin Christine Rae for this free training opportunity and learn how to create the perfect bedroom retreat following some basic guidelines. \nParticipants will learn: \n\nWhy it is essential to your work\nSeven steps to perfect bedrooms\nFeng Shui elements needed for restful nights\nExpand your business with a unique approach\n\n[/vc_column_text][vc_btn title=”REGISTER TODAY!” style=”custom” custom_background=”#daac56″ custom_text=”#ffffff” shape=”round” size=”lg” align=”center” link=”url:https%3A%2F%2Fattendee.gotowebinar.com%2Fregister%2F2757895550457777239%20|title:REGISTER%20TODAY|target:_blank”][vc_column_text]\nInstructor:\nChristine Rae Bio\nAn industry pioneer\, bestselling author\, multiple award-winning entrepreneur\, Christine’s influenced the staging and real estate industries from the beginning of her career.  After a successful staging business she developed an innovative staging business training and certification program and the first real estate agent’s program\, her influence has affected the development of many but she is most proud of the thousands of graduates’ success In a non-regulated industry where “anything goes”\, she established value for high standards\, unquestionable ethics\, professionalism\, profit-focused systems\, actionable training and continuing education. \nCSP International™ recognized as the world’s leading authority on staging\, provides a stimulating\, safe-haven for support\, best practices\, and leading market trends. With a commitment to innovation and marketability\, CSP consistently releases content-rich trainings as well as specific marketable designations to enhance the industry and its practitioners. CSP trains stagers how to skillfully manage\, and grow lucrative businesses. Its core values\, mission\, and its apprenticeship program set CSP apart. Her unique\, signature CSP Real Estate Staging Business Program has received awards\, and accreditation from RESA. \nChristine was featured on ABC\, NBC\, CBS and FOX affiliates. Some awards include the 2020 RISMedia Trendsetter Creative Thinker\, RESA Lifetime Achievement Award\, RESA Innovator Award for continuing education\, 2019 RESA Top 75 Most Influential and Top 100 Elite Women who are shaping the real estate industry. \nRESA Innovator award also went to her as the Editor/Founder of the world’s only Staging Magazine. She is an Industry Expert Blogger\, regularly published in Real Estate Magazine\, as well a pioneer of EcoStaging®. A featured speaker and keynote for numerous real estate and staging events\, influencing Real Estate agents and sellers to change their minds about staging. \nIn 2001\, we said\, “staging will change the way real estate is sold” AND now it has![/vc_column_text][/vc_column][/vc_row]
URL:https://www.stagingtraining.com/event/staging-the-main-bedroom/
LOCATION:Virtual Classroom
CATEGORIES:Complimentary
ATTACH;FMTTYPE=image/png:https://www.stagingtraining.com/wp-content/uploads/2023/03/FB_.png
ORGANIZER;CN="Christine%20Rae":MAILTO:linda@StagingTraining.com
END:VEVENT
END:VCALENDAR